BEGIN:VCALENDAR
VERSION:2.0
CALSCALE:GREGORIAN
PRODID:-//Diputació de Barcelona//DibaCMS//EN
BEGIN:VEVENT
UID:9830
DTSTAMP:20260422T164053
DTSTART:20260509T180000
DTEND:20260509T190000
SUMMARY:Ual.la -Nozing -Cia.
LOCATION:Passeig del Centenari, s/n  08410 Vilanova del Vallès
METHOD:PUBLISH
X-WR-CALNAME:ajuntament@vilanovadelvalles.cat
X-WR-TIMEZONE:Europe/Madrid
DESCRIPTION:
URI:https://www.vilanovadelvalles.cat/actualitat/agenda/ualla-nozing-cia.html
CLASS:PUBLIC
END:VEVENT
END:VCALENDAR
