BEGIN:VCALENDAR
VERSION:2.0
CALSCALE:GREGORIAN
PRODID:-//Diputació de Barcelona//DibaCMS//EN
BEGIN:VEVENT
UID:9829
DTSTAMP:20260422T162634
DTSTART:20260508T190000
DTEND:20260508T210000
SUMMARY:Sirat
LOCATION:Passeig del Centenari, s/n  08410 Vilanova del Vallès
METHOD:PUBLISH
X-WR-CALNAME:ajuntament@vilanovadelvalles.cat
X-WR-TIMEZONE:Europe/Madrid
DESCRIPTION:Un home (Sergi López) i el seu fill (Bruno Núñez) arriben a una rave perduda al Marroc. Busquen a Mar, la seva filla i germana

URI:https://www.vilanovadelvalles.cat/actualitat/agenda/9829-sirat.html
CLASS:PUBLIC
END:VEVENT
END:VCALENDAR
