BEGIN:VCALENDAR
VERSION:2.0
CALSCALE:GREGORIAN
PRODID:-//Diputació de Barcelona//DibaCMS//EN
BEGIN:VEVENT
UID:9826
DTSTAMP:20260422T181330
DTSTART:20260615T160000
DTEND:20260617T200000
SUMMARY:Taller Atenta-Ment 
LOCATION:Plaça Països Catalans, 4 08410 Vilanova del Vallès
METHOD:PUBLISH
X-WR-CALNAME:ajuntament@vilanovadelvalles.cat
X-WR-TIMEZONE:Europe/Madrid
DESCRIPTION:
URI:https://www.vilanovadelvalles.cat/actualitat/agenda/taller-atenta-ment-.html
CLASS:PUBLIC
END:VEVENT
END:VCALENDAR
