BEGIN:VCALENDAR
VERSION:2.0
CALSCALE:GREGORIAN
PRODID:-//Diputació de Barcelona//DibaCMS//EN
BEGIN:VEVENT
UID:9725
DTSTAMP:20260426T040944
DTSTART:20260228T170000
DTEND:20260228T182500
SUMMARY:Dins el cau del Tabalet Cia. Ferrer Brodhers
LOCATION:Passeig del Centenari, s/n  08410 Vilanova del Vallès
METHOD:PUBLISH
X-WR-CALNAME:ajuntament@vilanovadelvalles.cat
X-WR-TIMEZONE:Europe/Madrid
DESCRIPTION:
URI:https://www.vilanovadelvalles.cat/actualitat/agenda/dins-el-cau-del-tabalet-cia-ferrer-brodhers.html
CLASS:PUBLIC
END:VEVENT
END:VCALENDAR
