BEGIN:VCALENDAR
VERSION:2.0
CALSCALE:GREGORIAN
PRODID:-//Diputació de Barcelona//DibaCMS//EN
BEGIN:VEVENT
UID:9718
DTSTAMP:20260419T234818
DTSTART:20261017T090000
DTEND:20261017T190000
SUMMARY:CAMPIONAT de CATALUNYA Bàdminton s-19, s-13 i s-9
LOCATION:Maria Aurèlia Campany, 2-4 08410 Vilanova del Vallès
METHOD:PUBLISH
X-WR-CALNAME:ajuntament@vilanovadelvalles.cat
X-WR-TIMEZONE:Europe/Madrid
DESCRIPTION:
URI:https://www.vilanovadelvalles.cat/actualitat/agenda/9718-campionat-de-catalunya-badminton-s-19-s-13-i-s-9.html
CLASS:PUBLIC
END:VEVENT
END:VCALENDAR
