BEGIN:VCALENDAR
VERSION:2.0
CALSCALE:GREGORIAN
PRODID:-//Diputació de Barcelona//DibaCMS//EN
BEGIN:VEVENT
UID:9715
DTSTAMP:20260419T234348
DTSTART:20260505T000000
DTEND:20260507T000000
SUMMARY:VILA OLIMPIADES  (La Falguera i Mestres Mundet)
LOCATION:c. Maria Aurèlia Capmany, 2-4 (Zona esportiva) 08410 Vilanova del Vallès
METHOD:PUBLISH
X-WR-CALNAME:ajuntament@vilanovadelvalles.cat
X-WR-TIMEZONE:Europe/Madrid
DESCRIPTION:
URI:https://www.vilanovadelvalles.cat/actualitat/agenda/vila-olimpiades-la-falguera-i-mestres-mundet.html
CLASS:PUBLIC
END:VEVENT
END:VCALENDAR
