BEGIN:VCALENDAR
VERSION:2.0
CALSCALE:GREGORIAN
PRODID:-//Diputació de Barcelona//DibaCMS//EN
BEGIN:VEVENT
UID:9711
DTSTAMP:20260426T014456
DTSTART:20260219T080000
DTEND:20260219T160000
SUMMARY:Passejada Marxa Nòrdica
LOCATION:Maria Aurèlia Campany, 2-4 08410 Vilanova del Vallès
METHOD:PUBLISH
X-WR-CALNAME:ajuntament@vilanovadelvalles.cat
X-WR-TIMEZONE:Europe/Madrid
DESCRIPTION:
URI:https://www.vilanovadelvalles.cat/actualitat/agenda/passejada-marxa-nordica.html
CLASS:PUBLIC
END:VEVENT
END:VCALENDAR
