BEGIN:VCALENDAR
VERSION:2.0
CALSCALE:GREGORIAN
PRODID:-//Diputació de Barcelona//DibaCMS//EN
BEGIN:VEVENT
UID:9685
DTSTAMP:20260426T014635
DTSTART:20260227T180000
DTEND:20260227T200000
SUMMARY:Assemblea Jove 
LOCATION:Passeig del Centenari, 49 08410 Vilanova del Vallès
METHOD:PUBLISH
X-WR-CALNAME:ajuntament@vilanovadelvalles.cat
X-WR-TIMEZONE:Europe/Madrid
DESCRIPTION:L’Assemblea Jove és un espai de participació on el jovent de Vilanova del Vallès pot presentar, debatre i votar les propostes presentades i decidir com invertir una part del pressupost municipal.

URI:https://www.vilanovadelvalles.cat/actualitat/agenda/assemblea-jove-.html
CLASS:PUBLIC
END:VEVENT
END:VCALENDAR
