BEGIN:VCALENDAR
VERSION:2.0
CALSCALE:GREGORIAN
PRODID:-//Diputació de Barcelona//DibaCMS//EN
BEGIN:VEVENT
UID:9683
DTSTAMP:20260426T023817
DTSTART:20260212T180000
DTEND:20260212T193000
SUMMARY:Sessió programa Activament!
LOCATION:Passeig del Centenari, 49 08410 Vilanova del Vallès
METHOD:PUBLISH
X-WR-CALNAME:ajuntament@vilanovadelvalles.cat
X-WR-TIMEZONE:Europe/Madrid
DESCRIPTION:SPAI ESCOLTA- DINÀMICA DE LIDERATGE POSITIU “I tu, inspires i transformes als qui t’envolten?”

 

URI:https://www.vilanovadelvalles.cat/actualitat/agenda/9683-sessio-programa-activament.html
CLASS:PUBLIC
END:VEVENT
END:VCALENDAR
