BEGIN:VCALENDAR
VERSION:2.0
CALSCALE:GREGORIAN
PRODID:-//Diputació de Barcelona//DibaCMS//EN
BEGIN:VEVENT
UID:9678
DTSTAMP:20260426T014859
DTSTART:20260220T190000
DTEND:20260220T205500
SUMMARY:CICLE GAUDÍ  ROMERIA
LOCATION:Passeig del Centenari, s/n  08410 Vilanova del Vallès
METHOD:PUBLISH
X-WR-CALNAME:ajuntament@vilanovadelvalles.cat
X-WR-TIMEZONE:Europe/Madrid
DESCRIPTION:
URI:https://www.vilanovadelvalles.cat/actualitat/agenda/cicle-gaudi-romeria.html
CLASS:PUBLIC
END:VEVENT
END:VCALENDAR
