BEGIN:VCALENDAR
VERSION:2.0
CALSCALE:GREGORIAN
PRODID:-//Diputació de Barcelona//DibaCMS//EN
BEGIN:VEVENT
UID:9662
DTSTAMP:20260426T014939
DTSTART:20260123T200000
DTEND:20260123T213000
SUMMARY:TEATRE - CUNYADES
LOCATION:Passeig del Centenari, s/n  08410 Vilanova del Vallès
METHOD:PUBLISH
X-WR-CALNAME:ajuntament@vilanovadelvalles.cat
X-WR-TIMEZONE:Europe/Madrid
DESCRIPTION:Quant el Manel Planas, propietari de la impremta Planas i fills es mor, el negoci pasa a mans dels seus dos fills,en Pere i en Pau amb caracter afable i que sempre s'han portat molt bé  entre ells. No es el cas de les respectives esposes.

URI:https://www.vilanovadelvalles.cat/actualitat/agenda/teatre-cunyades.html
CLASS:PUBLIC
END:VEVENT
END:VCALENDAR
