BEGIN:VCALENDAR
VERSION:2.0
CALSCALE:GREGORIAN
PRODID:-//Diputació de Barcelona//DibaCMS//EN
BEGIN:VEVENT
UID:9493
DTSTAMP:20260420T164211
DTSTART:20250820T170000
DTEND:20250825T000000
SUMMARY:Festa Major 2025
LOCATION:Varies localitzacions del municipi 
METHOD:PUBLISH
X-WR-CALNAME:ajuntament@vilanovadelvalles.cat
X-WR-TIMEZONE:Europe/Madrid
DESCRIPTION:Vilanovins i vilanovines!

Prepareu-vos per viure uns dies plens d’alegria, tradició i diversió per a totes les edats.

Amb un programa carregat d’activitats us convidem a gaudir i a compartir l’esperit festiu que ens uneix com a poble.

URI:https://www.vilanovadelvalles.cat/actualitat/agenda/9493-festa-major-2025.html
CLASS:PUBLIC
END:VEVENT
END:VCALENDAR
