BEGIN:VCALENDAR
VERSION:2.0
CALSCALE:GREGORIAN
PRODID:-//Diputació de Barcelona//DibaCMS//EN
BEGIN:VEVENT
UID:9386
DTSTAMP:20260424T121026
DTSTART:20250513T183000
DTEND:20250513T203000
SUMMARY:CABARET
LOCATION:Passeig del Centenari, s/n  08410 Vilanova del Vallès
METHOD:PUBLISH
X-WR-CALNAME:ajuntament@vilanovadelvalles.cat
X-WR-TIMEZONE:Europe/Madrid
DESCRIPTION:Per dones de totes les edats 

URI:https://www.vilanovadelvalles.cat/actualitat/agenda/cabaret.html
CLASS:PUBLIC
END:VEVENT
END:VCALENDAR
