BEGIN:VCALENDAR
VERSION:2.0
CALSCALE:GREGORIAN
PRODID:-//Diputació de Barcelona//DibaCMS//EN
BEGIN:VEVENT
UID:9356
DTSTAMP:20260419T181324
DTSTART:20250407T173000
DTEND:20250407T200000
SUMMARY:Laboratori Tecnològic. Micropedra, Micropaper, Microtisores.
LOCATION:Plaça Països Catalans, 4 08410 Vilanova del Vallès
METHOD:PUBLISH
X-WR-CALNAME:ajuntament@vilanovadelvalles.cat
X-WR-TIMEZONE:Europe/Madrid
DESCRIPTION:Micropedra, Micropaper, Micotisores.

A càrrec d'Eixos Creativa.

Per a infants a partir dels 12 anys.

Places limitades. Cal inscripció prèvia.

URI:https://www.vilanovadelvalles.cat/actualitat/agenda/laboratori-tecnologic-micropedra-micropaper-microtisores.html
CLASS:PUBLIC
END:VEVENT
END:VCALENDAR
