BEGIN:VCALENDAR
VERSION:2.0
CALSCALE:GREGORIAN
PRODID:-//Diputació de Barcelona//DibaCMS//EN
BEGIN:VEVENT
UID:9355
DTSTAMP:20260419T153044
DTSTART:20250402T173000
DTEND:20250402T200000
SUMMARY:Taller Escriptura Creativa.  - duplicat
LOCATION:Plaça Països Catalans, 4 08410 Vilanova del Vallès
METHOD:PUBLISH
X-WR-CALNAME:ajuntament@vilanovadelvalles.cat
X-WR-TIMEZONE:Europe/Madrid
DESCRIPTION:És un taller dirigit a qualsevol persona que tingui ganes d'escriure, més enllà del seu nivell.

A càrrec de l'escriptor Roger Coch.

URI:https://www.vilanovadelvalles.cat/actualitat/agenda/taller-escriptura-creativa-duplicat.html
CLASS:PUBLIC
END:VEVENT
END:VCALENDAR
