BEGIN:VCALENDAR
VERSION:2.0
CALSCALE:GREGORIAN
PRODID:-//Diputació de Barcelona//DibaCMS//EN
BEGIN:VEVENT
UID:9304
DTSTAMP:20260423T201359
DTSTART:20250311T170000
DTEND:20250311T173000
SUMMARY:Taller de Lectura en Veu Alta. 
LOCATION:Plaça Països Catalans, 4 08410 Vilanova del Vallès
METHOD:PUBLISH
X-WR-CALNAME:ajuntament@vilanovadelvalles.cat
X-WR-TIMEZONE:Europe/Madrid
DESCRIPTION:Taller de lectura en veu alt, adreçada a nois i noies de 1r a 3r de primària.

URI:https://www.vilanovadelvalles.cat/actualitat/agenda/9304-taller-de-lectura-en-veu-alta-.html
CLASS:PUBLIC
END:VEVENT
END:VCALENDAR
