BEGIN:VCALENDAR
VERSION:2.0
CALSCALE:GREGORIAN
PRODID:-//Diputació de Barcelona//DibaCMS//EN
BEGIN:VEVENT
UID:9203
DTSTAMP:20260421T101213
DTSTART:20250219T171500
DTEND:20250219T183000
SUMMARY:Espai de criança compartida INFANTS
LOCATION: Xavier Montsalvatge s/n (Plaça Pau Casals) 08410 Vilanova del Vallès
METHOD:PUBLISH
X-WR-CALNAME:ajuntament@vilanovadelvalles.cat
X-WR-TIMEZONE:Europe/Madrid
DESCRIPTION:Espai d'acompanyament quinzenal adreçat a criatures de 12 a 36 mesos i les seves famílies

URI:https://www.vilanovadelvalles.cat/actualitat/agenda/9203-espai-de-crianca-compartida-infants.html
CLASS:PUBLIC
END:VEVENT
END:VCALENDAR
