BEGIN:VCALENDAR
VERSION:2.0
CALSCALE:GREGORIAN
PRODID:-//Diputació de Barcelona//DibaCMS//EN
BEGIN:VEVENT
UID:9152
DTSTAMP:20260423T045921
DTSTART:20241129T173000
DTEND:20241129T200000
SUMMARY:Spai Escolta: Copa de la salut
LOCATION:Passeig del Centenari, 49 08410 Vilanova del Vallès
METHOD:PUBLISH
X-WR-CALNAME:ajuntament@vilanovadelvalles.cat
X-WR-TIMEZONE:Europe/Madrid
DESCRIPTION:Taller per aprendre a crear còctels sense alcohol amb l'ajuda d'un expert en cocteleria.

URI:https://www.vilanovadelvalles.cat/actualitat/agenda/spai-escolta-copa-de-la-salut.html
CLASS:PUBLIC
END:VEVENT
END:VCALENDAR
