BEGIN:VCALENDAR
VERSION:2.0
CALSCALE:GREGORIAN
PRODID:-//Diputació de Barcelona//DibaCMS//EN
BEGIN:VEVENT
UID:9117
DTSTAMP:20260426T062243
DTSTART:20241018T210000
DTEND:20241018T223000
SUMMARY:TEATRE - Hitchcock
LOCATION:Passeig del Centenari, s/n  08410 Vilanova del Vallès
METHOD:PUBLISH
X-WR-CALNAME:ajuntament@vilanovadelvalles.cat
X-WR-TIMEZONE:Europe/Madrid
DESCRIPTION:Mònica Pérez i Jordi Ríos protagonitzen "Hitchcock: la comedia", us espectacle escrit i dirigit per Mònica Pérez. Una revisió de l'obra titulada "Mcguffin" que es va poder veure a diferents teatres amb gran èxit de públic.

URI:https://www.vilanovadelvalles.cat/actualitat/agenda/teatre-hitchcock.html
CLASS:PUBLIC
END:VEVENT
END:VCALENDAR
