BEGIN:VCALENDAR
VERSION:2.0
CALSCALE:GREGORIAN
PRODID:-//Diputació de Barcelona//DibaCMS//EN
BEGIN:VEVENT
UID:9114
DTSTAMP:20260423T120704
DTSTART:20241025T190000
DTEND:20241026T120000
SUMMARY:Festa Pijama Peluixos
LOCATION:Plaça Països Catalans, 4 08410 Vilanova del Vallès
METHOD:PUBLISH
X-WR-CALNAME:ajuntament@vilanovadelvalles.cat
X-WR-TIMEZONE:Europe/Madrid
DESCRIPTION:Per a tots els peluixos.

Passarem la nit entre llibres i rialles.

Reserva plaça per al teu Peluix!

URI:https://www.vilanovadelvalles.cat/actualitat/agenda/festa-pijama-peluixos.html
CLASS:PUBLIC
END:VEVENT
END:VCALENDAR
