BEGIN:VCALENDAR
VERSION:2.0
CALSCALE:GREGORIAN
PRODID:-//Diputació de Barcelona//DibaCMS//EN
BEGIN:VEVENT
UID:9112
DTSTAMP:20260424T061032
DTSTART:20241016T190000
DTEND:20241016T200000
SUMMARY:Tertúlia Literària. Club Contravent 
LOCATION:Plaça Països Catalans, 4 08410 Vilanova del Vallès
METHOD:PUBLISH
X-WR-CALNAME:ajuntament@vilanovadelvalles.cat
X-WR-TIMEZONE:Europe/Madrid
DESCRIPTION:" Invasió subtil i altres contes" de Pere Calders.

Dinamitzadora: Laia Fàbregas

 

Places limitades. Inscripcions a la biblioteca.

URI:https://www.vilanovadelvalles.cat/actualitat/agenda/9112-tertulia-literaria-club-contravent-.html
CLASS:PUBLIC
END:VEVENT
END:VCALENDAR
