BEGIN:VCALENDAR
VERSION:2.0
CALSCALE:GREGORIAN
PRODID:-//Diputació de Barcelona//DibaCMS//EN
BEGIN:VEVENT
UID:9100
DTSTAMP:20260422T055422
DTSTART:20241003T173000
DTEND:20241003T181500
SUMMARY:Story Time. "The Witch's Broomstick"
LOCATION:Plaça Països Catalans, 4 08410 Vilanova del Vallès
METHOD:PUBLISH
X-WR-CALNAME:ajuntament@vilanovadelvalles.cat
X-WR-TIMEZONE:Europe/Madrid
DESCRIPTION:
URI:https://www.vilanovadelvalles.cat/actualitat/agenda/story-time-the-witchs-broomstick.html
CLASS:PUBLIC
END:VEVENT
END:VCALENDAR
