BEGIN:VCALENDAR
VERSION:2.0
CALSCALE:GREGORIAN
PRODID:-//Diputació de Barcelona//DibaCMS//EN
BEGIN:VEVENT
UID:9071
DTSTAMP:20260422T074056
DTSTART:20241014T180000
DTEND:20241014T193000
SUMMARY:Spai Forma't! Curs Dibuix i il·lustració
LOCATION:
METHOD:PUBLISH
X-WR-CALNAME:ajuntament@vilanovadelvalles.cat
X-WR-TIMEZONE:Europe/Madrid
DESCRIPTION:L'Spai Jove ha obert les inscripcions per al curs de Dibuix i il·lustració, dins el programa de formació Spai Forma't!

URI:https://www.vilanovadelvalles.cat/actualitat/agenda/spai-format-curs-dibuix-i-illustracio.html
CLASS:PUBLIC
END:VEVENT
END:VCALENDAR
