BEGIN:VCALENDAR
VERSION:2.0
CALSCALE:GREGORIAN
PRODID:-//Diputació de Barcelona//DibaCMS//EN
BEGIN:VEVENT
UID:9070
DTSTAMP:20260422T065023
DTSTART:20241112T160000
DTEND:20241112T200000
SUMMARY:Curs de preparació a l'ACTIC Mitjà
LOCATION:Plaça Països Catalans, 4 08410 Vilanova del Vallès
METHOD:PUBLISH
X-WR-CALNAME:ajuntament@vilanovadelvalles.cat
X-WR-TIMEZONE:Europe/Madrid
DESCRIPTION:Curs de preparació per a l'obtenció de l'ACTIC Mitjà.

URI:https://www.vilanovadelvalles.cat/actualitat/agenda/curs-de-preparacio-a-lactic-mitja.html
CLASS:PUBLIC
END:VEVENT
END:VCALENDAR
