BEGIN:VCALENDAR
VERSION:2.0
CALSCALE:GREGORIAN
PRODID:-//Diputació de Barcelona//DibaCMS//EN
BEGIN:VEVENT
UID:9068
DTSTAMP:20260423T011908
DTSTART:20241021T090000
DTEND:20241021T090000
SUMMARY:Curs de Carretons elevadors 
LOCATION:21,22 i 23 d'octubre teórica online. 
24 i 25 de 8.00 a 16.00h Pràctica a Montmeló.  
METHOD:PUBLISH
X-WR-CALNAME:ajuntament@vilanovadelvalles.cat
X-WR-TIMEZONE:Europe/Madrid
DESCRIPTION:Formació per a l'obtenció dels carnets de màquina frontal, retràctil, apilador i transpaleta elèctrica.

URI:https://www.vilanovadelvalles.cat/actualitat/agenda/9068-curs-de-carretons-elevadors-.html
CLASS:PUBLIC
END:VEVENT
END:VCALENDAR
