BEGIN:VCALENDAR
VERSION:2.0
CALSCALE:GREGORIAN
PRODID:-//Diputació de Barcelona//DibaCMS//EN
BEGIN:VEVENT
UID:9015
DTSTAMP:20260421T181804
DTSTART:20240627T183000
DTEND:20240627T203000
SUMMARY:Taller d'apoderament del col·lectiu LGTBI
LOCATION:Passeig del Centenari, 49 08410 Vilanova del Vallès
METHOD:PUBLISH
X-WR-CALNAME:ajuntament@vilanovadelvalles.cat
X-WR-TIMEZONE:Europe/Madrid
DESCRIPTION:Dijous 27/06, uneix-te a nosaltres al taller d'apoderament del col·lectiu LGTBI organitzat per la Diputació de Barcelona.

URI:https://www.vilanovadelvalles.cat/actualitat/agenda/taller-dapoderament-del-collectiu-lgtbi.html
CLASS:PUBLIC
END:VEVENT
END:VCALENDAR
