BEGIN:VCALENDAR
VERSION:2.0
CALSCALE:GREGORIAN
PRODID:-//Diputació de Barcelona//DibaCMS//EN
BEGIN:VEVENT
UID:9000
DTSTAMP:20260425T211831
DTSTART:20240701T190000
DTEND:20240701T210000
SUMMARY:Spai League
LOCATION:c. Maria Aurèlia Capmany, 2-4 (Zona esportiva) 08410 Vilanova del Vallès
METHOD:PUBLISH
X-WR-CALNAME:ajuntament@vilanovadelvalles.cat
X-WR-TIMEZONE:Europe/Madrid
DESCRIPTION:Torneig de futbol 7 amb normes alternatives per a joves entre 16 i 29 anys.

URI:https://www.vilanovadelvalles.cat/actualitat/agenda/spai-league.html
CLASS:PUBLIC
END:VEVENT
END:VCALENDAR
