BEGIN:VCALENDAR
VERSION:2.0
CALSCALE:GREGORIAN
PRODID:-//Diputació de Barcelona//DibaCMS//EN
BEGIN:VEVENT
UID:8937
DTSTAMP:20260421T170607
DTSTART:20240621T193000
DTEND:20240621T210000
SUMMARY:Robot dreams, dirigida per Pablo Berger
LOCATION:Passeig del Centenari, s/n  08410 Vilanova del Vallès
METHOD:PUBLISH
X-WR-CALNAME:ajuntament@vilanovadelvalles.cat
X-WR-TIMEZONE:Europe/Madrid
DESCRIPTION:Cinema del Cicle Gaudí al CCVV

URI:https://www.vilanovadelvalles.cat/actualitat/agenda/robot-dreams-dirigida-per-pablo-berger.html
CLASS:PUBLIC
END:VEVENT
END:VCALENDAR
