BEGIN:VCALENDAR
VERSION:2.0
CALSCALE:GREGORIAN
PRODID:-//Diputació de Barcelona//DibaCMS//EN
BEGIN:VEVENT
UID:8843
DTSTAMP:20260424T000346
DTSTART:20240321T180000
DTEND:20240321T193000
SUMMARY:Acompanyament a joves en la seva salut mental i benestar emocional
LOCATION:c. Maria Aurèlia Capmany núm.13 08410 Vilanova del Vallès
METHOD:PUBLISH
X-WR-CALNAME:ajuntament@vilanovadelvalles.cat
X-WR-TIMEZONE:Europe/Madrid
DESCRIPTION:Adreçat a famílies amb joves a l’etapa de secundària.

URI:https://www.vilanovadelvalles.cat/actualitat/agenda/acompanyament-a-joves-en-la-seva-salut-mental-i-benestar-emocional.html
CLASS:PUBLIC
END:VEVENT
END:VCALENDAR
