BEGIN:VCALENDAR
VERSION:2.0
CALSCALE:GREGORIAN
PRODID:-//Diputació de Barcelona//DibaCMS//EN
BEGIN:VEVENT
UID:8435
DTSTAMP:20260421T221718
DTSTART:20230525T180000
DTEND:20230525T190000
SUMMARY:Parcs i Biblios. Manualitats.
LOCATION:Plaça Països Catalans, 4 08410 Vilanova del Vallès
METHOD:PUBLISH
X-WR-CALNAME:ajuntament@vilanovadelvalles.cat
X-WR-TIMEZONE:Europe/Madrid
DESCRIPTION:Taller Manualitats: Menjadora d'ocells.

Per a infants majors de 4 anys.

Places limitades. Cal Inscripció prèvia.

URI:https://www.vilanovadelvalles.cat/actualitat/agenda/parcs-i-biblios-manualitats.html
CLASS:PUBLIC
END:VEVENT
END:VCALENDAR
