BEGIN:VCALENDAR
VERSION:2.0
CALSCALE:GREGORIAN
PRODID:-//Diputació de Barcelona//DibaCMS//EN
BEGIN:VEVENT
UID:8269
DTSTAMP:20260422T163621
DTSTART:20230508T170000
DTEND:20230508T170000
SUMMARY:Les tertúlies dels dilluns.  
LOCATION:Sis de desembre, 28  08410 Vilanova del Vallès
METHOD:PUBLISH
X-WR-CALNAME:ajuntament@vilanovadelvalles.cat
X-WR-TIMEZONE:Europe/Madrid
DESCRIPTION:La pressió arterial.

URI:https://www.vilanovadelvalles.cat/actualitat/agenda/8269-les-tertulies-dels-dilluns-.html
CLASS:PUBLIC
END:VEVENT
END:VCALENDAR
