BEGIN:VCALENDAR
VERSION:2.0
CALSCALE:GREGORIAN
PRODID:-//Diputació de Barcelona//DibaCMS//EN
BEGIN:VEVENT
UID:8136
DTSTAMP:20260425T123657
DTSTART:20230227T170000
DTEND:20230227T183000
SUMMARY:Les tertúlies dels dilluns 
LOCATION:Sis de desembre, 28  08410 Vilanova del Vallès
METHOD:PUBLISH
X-WR-CALNAME:ajuntament@vilanovadelvalles.cat
X-WR-TIMEZONE:Europe/Madrid
DESCRIPTION:Aquesta setmana el tema proposat per totes nosaltres és l'alegria (experiències compartides).

URI:https://www.vilanovadelvalles.cat/actualitat/agenda/8136-les-tertulies-dels-dilluns-.html
CLASS:PUBLIC
END:VEVENT
END:VCALENDAR
