BEGIN:VCALENDAR
VERSION:2.0
CALSCALE:GREGORIAN
PRODID:-//Diputació de Barcelona//DibaCMS//EN
BEGIN:VEVENT
UID:7952
DTSTAMP:20260424T110433
DTSTART:20221128T170000
DTEND:20221128T173000
SUMMARY:Taller lectura en veu alta.  
LOCATION:Plaça Països Catalans, 4 08410 Vilanova del Vallès
METHOD:PUBLISH
X-WR-CALNAME:ajuntament@vilanovadelvalles.cat
X-WR-TIMEZONE:Europe/Madrid
DESCRIPTION:Taller de lectura en veu alt, adreçada a nois i noies a partir de 6 anys.

URI:https://www.vilanovadelvalles.cat/actualitat/agenda/7952-taller-lectura-en-veu-alta-.html
CLASS:PUBLIC
END:VEVENT
END:VCALENDAR
