BEGIN:VCALENDAR
VERSION:2.0
CALSCALE:GREGORIAN
PRODID:-//Diputació de Barcelona//DibaCMS//EN
BEGIN:VEVENT
UID:7931
DTSTAMP:20260422T145222
DTSTART:20221103T180000
DTEND:20221103T190000
SUMMARY:Story Time. " The Frog Princess"
LOCATION:Plaça Països Catalans, 4 08410 Vilanova del Vallès
METHOD:PUBLISH
X-WR-CALNAME:ajuntament@vilanovadelvalles.cat
X-WR-TIMEZONE:Europe/Madrid
DESCRIPTION:
URI:https://www.vilanovadelvalles.cat/actualitat/agenda/story-time--the-frog-princess.html
CLASS:PUBLIC
END:VEVENT
END:VCALENDAR
