BEGIN:VCALENDAR
VERSION:2.0
CALSCALE:GREGORIAN
PRODID:-//Diputació de Barcelona//DibaCMS//EN
BEGIN:VEVENT
UID:7923
DTSTAMP:20260425T031505
DTSTART:20221216T193000
DTEND:20221216T235900
SUMMARY:La voluntària. Cinema de Cicle Gaudí. 
LOCATION:Passeig del Centenari, s/n  08410 Vilanova del Vallès
METHOD:PUBLISH
X-WR-CALNAME:ajuntament@vilanovadelvalles.cat
X-WR-TIMEZONE:Europe/Madrid
DESCRIPTION:Reserva d'entrades a www.entrapolis.com 

URI:https://www.vilanovadelvalles.cat/actualitat/agenda/la-voluntaria-cinema-de-cicle-gaudi-.html
CLASS:PUBLIC
END:VEVENT
END:VCALENDAR
