BEGIN:VCALENDAR
VERSION:2.0
CALSCALE:GREGORIAN
PRODID:-//Diputació de Barcelona//DibaCMS//EN
BEGIN:VEVENT
UID:7920
DTSTAMP:20260424T091140
DTSTART:20221118T193000
DTEND:20221118T235900
SUMMARY:Alcarràs. Cinema de Cicle Gaudí 
LOCATION:Passeig del Centenari, s/n  08410 Vilanova del Vallès
METHOD:PUBLISH
X-WR-CALNAME:ajuntament@vilanovadelvalles.cat
X-WR-TIMEZONE:Europe/Madrid
DESCRIPTION:Reserva d'entrades a www.entrapolis.com  

URI:https://www.vilanovadelvalles.cat/actualitat/agenda/alcarras-cinema-de-cicle-gaudi-.html
CLASS:PUBLIC
END:VEVENT
END:VCALENDAR
