BEGIN:VCALENDAR
VERSION:2.0
CALSCALE:GREGORIAN
PRODID:-//Diputació de Barcelona//DibaCMS//EN
BEGIN:VEVENT
UID:7896
DTSTAMP:20260426T062221
DTSTART:20221018T184500
DTEND:20221018T194500
SUMMARY:Voluntariat per la llengua.    
LOCATION:Plaça Països Catalans, 4 08410 Vilanova del Vallès
METHOD:PUBLISH
X-WR-CALNAME:ajuntament@vilanovadelvalles.cat
X-WR-TIMEZONE:Europe/Madrid
DESCRIPTION:
URI:https://www.vilanovadelvalles.cat/actualitat/agenda/7896-voluntariat-per-la-llengua-.html
CLASS:PUBLIC
END:VEVENT
END:VCALENDAR
