BEGIN:VCALENDAR
VERSION:2.0
CALSCALE:GREGORIAN
PRODID:-//Diputació de Barcelona//DibaCMS//EN
BEGIN:VEVENT
UID:7864
DTSTAMP:20260426T012640
DTSTART:20220929T200000
DTEND:20220929T200000
SUMMARY:Ple ordinari
LOCATION:c. Maria Aurèlia Capmany núm.13 08410 Vilanova del Vallès
METHOD:PUBLISH
X-WR-CALNAME:ajuntament@vilanovadelvalles.cat
X-WR-TIMEZONE:Europe/Madrid
DESCRIPTION:
URI:https://www.vilanovadelvalles.cat/actualitat/convocatoria-de-ple-municipal/7864-ple-ordinari.html
CLASS:PUBLIC
END:VEVENT
END:VCALENDAR
