BEGIN:VCALENDAR
VERSION:2.0
CALSCALE:GREGORIAN
PRODID:-//Diputació de Barcelona//DibaCMS//EN
BEGIN:VEVENT
UID:7799
DTSTAMP:20260421T190924
DTSTART:20220822T183000
DTEND:20220822T183000
SUMMARY:FESTA MAJOR: Cursa d'Orientació Jove
LOCATION:Inici: Spai Jove 
METHOD:PUBLISH
X-WR-CALNAME:ajuntament@vilanovadelvalles.cat
X-WR-TIMEZONE:Europe/Madrid
DESCRIPTION:
URI:https://www.vilanovadelvalles.cat/actualitat/agenda/festa-major-cursa-dorientacio-jove.html
CLASS:PUBLIC
END:VEVENT
END:VCALENDAR
