BEGIN:VCALENDAR
VERSION:2.0
CALSCALE:GREGORIAN
PRODID:-//Diputació de Barcelona//DibaCMS//EN
BEGIN:VEVENT
UID:7779
DTSTAMP:20260423T102246
DTSTART:20220820T100000
DTEND:20220820T120000
SUMMARY:FESTA MAJOR: Bicicletada
LOCATION:
METHOD:PUBLISH
X-WR-CALNAME:ajuntament@vilanovadelvalles.cat
X-WR-TIMEZONE:Europe/Madrid
DESCRIPTION:Organitza: Comissió de Festes

Cola·labora: Ass. Voluntaris Protecció Civil

URI:https://www.vilanovadelvalles.cat/actualitat/agenda/7779-festa-major-bicicletada.html
CLASS:PUBLIC
END:VEVENT
END:VCALENDAR
