BEGIN:VCALENDAR
VERSION:2.0
CALSCALE:GREGORIAN
PRODID:-//Diputació de Barcelona//DibaCMS//EN
BEGIN:VEVENT
UID:7616
DTSTAMP:20260423T170442
DTSTART:20220512T180000
DTEND:20220512T190000
SUMMARY:Hora del Conte Menuda. "Cançons, jocs de falda i poesia"
LOCATION:Plaça Països Catalans, 4 08410 Vilanova del Vallès
METHOD:PUBLISH
X-WR-CALNAME:ajuntament@vilanovadelvalles.cat
X-WR-TIMEZONE:Europe/Madrid
DESCRIPTION:
URI:https://www.vilanovadelvalles.cat/actualitat/agenda/hora-del-conte-menuda-cancons-jocs-de-falda-i-poesia.html
CLASS:PUBLIC
END:VEVENT
END:VCALENDAR
