BEGIN:VCALENDAR
VERSION:2.0
CALSCALE:GREGORIAN
PRODID:-//Diputació de Barcelona//DibaCMS//EN
BEGIN:VEVENT
UID:7609
DTSTAMP:20260424T045914
DTSTART:20220531T184500
DTEND:20220531T194500
SUMMARY:Voluntariat per la llengua.  
LOCATION:Plaça Països Catalans, 4 08410 Vilanova del Vallès
METHOD:PUBLISH
X-WR-CALNAME:ajuntament@vilanovadelvalles.cat
X-WR-TIMEZONE:Europe/Madrid
DESCRIPTION:
URI:https://www.vilanovadelvalles.cat/actualitat/agenda/7609-voluntariat-per-la-llengua-.html
CLASS:PUBLIC
END:VEVENT
END:VCALENDAR
