BEGIN:VCALENDAR
VERSION:2.0
CALSCALE:GREGORIAN
PRODID:-//Diputació de Barcelona//DibaCMS//EN
BEGIN:VEVENT
UID:7577
DTSTAMP:20260424T050327
DTSTART:20260425T084500
DTEND:20260426T200000
SUMMARY:Horaris partits cap de setmana del 25 i 26 d'abril
LOCATION:c. Maria Aurèlia Capmany, 2-4 (Zona esportiva) 08410 Vilanova del Vallès
METHOD:PUBLISH
X-WR-CALNAME:ajuntament@vilanovadelvalles.cat
X-WR-TIMEZONE:Europe/Madrid
DESCRIPTION:AGENDA ESPORTIVA IEM VILANOVA DEL VALLÈS

URI:https://www.vilanovadelvalles.cat/actualitat/agenda/horaris-partits-cap-de-setmana-del-25-i-26-dabril.html
CLASS:PUBLIC
END:VEVENT
END:VCALENDAR
