BEGIN:VCALENDAR
VERSION:2.0
CALSCALE:GREGORIAN
PRODID:-//Diputació de Barcelona//DibaCMS//EN
BEGIN:VEVENT
UID:7337
DTSTAMP:20260424T203236
DTSTART:20220203T170000
DTEND:20220203T190000
SUMMARY:El certificat digital i IdCAT i IdCat Mòbil
LOCATION:Plaça Països Catalans, 4 08410 Vilanova del Vallès
METHOD:PUBLISH
X-WR-CALNAME:ajuntament@vilanovadelvalles.cat
X-WR-TIMEZONE:Europe/Madrid
DESCRIPTION:
URI:https://www.vilanovadelvalles.cat/actualitat/agenda/el-certificat-digital-i-idcat-i-idcat-mobil.html
CLASS:PUBLIC
END:VEVENT
END:VCALENDAR
