BEGIN:VCALENDAR
VERSION:2.0
CALSCALE:GREGORIAN
PRODID:-//Diputació de Barcelona//DibaCMS//EN
BEGIN:VEVENT
UID:7219
DTSTAMP:20260424T192042
DTSTART:20211118T170000
DTEND:20211118T190000
SUMMARY:Sense límits
LOCATION:Passeig Centenari, s/n 08410 Vilanova del Vallès
METHOD:PUBLISH
X-WR-CALNAME:ajuntament@vilanovadelvalles.cat
X-WR-TIMEZONE:Europe/Madrid
DESCRIPTION:Teatre fòrum sobre prevenció de la violència de gènere al Centre Cultural.

Acte en commemoració del 25N, Dia Internacional contra la Violència envers les Dones.

L'entrada serà lliure.

URI:https://www.vilanovadelvalles.cat/actualitat/agenda/sense-limits.html
CLASS:PUBLIC
END:VEVENT
END:VCALENDAR
