BEGIN:VCALENDAR
VERSION:2.0
CALSCALE:GREGORIAN
PRODID:-//Diputació de Barcelona//DibaCMS//EN
BEGIN:VEVENT
UID:7078
DTSTAMP:20260424T155102
DTSTART:20211014T170000
DTEND:20211014T190000
SUMMARY:Xarxes Socials professionals
LOCATION:
METHOD:PUBLISH
X-WR-CALNAME:ajuntament@vilanovadelvalles.cat
X-WR-TIMEZONE:Europe/Madrid
DESCRIPTION:Píndoles TIC

A la Biblioteca Contravent

URI:https://www.vilanovadelvalles.cat/actualitat/agenda/xarxes-socials-professionals.html
CLASS:PUBLIC
END:VEVENT
END:VCALENDAR
