BEGIN:VCALENDAR
VERSION:2.0
CALSCALE:GREGORIAN
PRODID:-//Diputació de Barcelona//DibaCMS//EN
BEGIN:VEVENT
UID:6979
DTSTAMP:20260424T082927
DTSTART:20210719T170000
DTEND:20210719T210000
SUMMARY:Donació de sang
LOCATION:Passeig Centenari, s/n 08410 Vilanova del Vallès
METHOD:PUBLISH
X-WR-CALNAME:ajuntament@vilanovadelvalles.cat
X-WR-TIMEZONE:Europe/Madrid
DESCRIPTION:Reserva hora a donarsang.gencat.cat 

URI:https://www.vilanovadelvalles.cat/actualitat/agenda/6979-donacio-de-sang.html
CLASS:PUBLIC
END:VEVENT
END:VCALENDAR
