BEGIN:VCALENDAR
VERSION:2.0
CALSCALE:GREGORIAN
PRODID:-//Diputació de Barcelona//DibaCMS//EN
BEGIN:VEVENT
UID:6967
DTSTAMP:20260424T150753
DTSTART:20210707T180000
DTEND:20210707T210000
SUMMARY:Estiu a la fresca: Sing
LOCATION:
METHOD:PUBLISH
X-WR-CALNAME:ajuntament@vilanovadelvalles.cat
X-WR-TIMEZONE:Europe/Madrid
DESCRIPTION:Entrades a: https://www.entrapolis.com/entrades/sing 

URI:https://www.vilanovadelvalles.cat/actualitat/agenda/estiu-a-la-fresca-sing.html
CLASS:PUBLIC
END:VEVENT
END:VCALENDAR
