BEGIN:VCALENDAR
VERSION:2.0
CALSCALE:GREGORIAN
PRODID:-//Diputació de Barcelona//DibaCMS//EN
BEGIN:VEVENT
UID:6750
DTSTAMP:20260424T010620
DTSTART:20210422T180000
DTEND:20210422T200000
SUMMARY:Hora del conte
LOCATION:
METHOD:PUBLISH
X-WR-CALNAME:ajuntament@vilanovadelvalles.cat
X-WR-TIMEZONE:Europe/Madrid
DESCRIPTION:Especial Sant Jordi: La princesa Violant i el cavaller

Cal inscripció prèvia

URI:https://www.vilanovadelvalles.cat/actualitat/agenda/6750-hora-del-conte.html
CLASS:PUBLIC
END:VEVENT
END:VCALENDAR
