BEGIN:VCALENDAR
VERSION:2.0
CALSCALE:GREGORIAN
PRODID:-//Diputació de Barcelona//DibaCMS//EN
BEGIN:VEVENT
UID:6668
DTSTAMP:20260424T210903
DTSTART:20210216T184500
DTEND:20210216T194500
SUMMARY:Voluntariat per la llengua
LOCATION:Plaça Països Catalans, 4 08410 Vilanova del Vallès
METHOD:PUBLISH
X-WR-CALNAME:ajuntament@vilanovadelvalles.cat
X-WR-TIMEZONE:Europe/Madrid
DESCRIPTION:
URI:https://www.vilanovadelvalles.cat/actualitat/agenda/6668-voluntariat-per-la-llengua.html
CLASS:PUBLIC
END:VEVENT
END:VCALENDAR
